BEGIN:VCALENDAR
VERSION:2.0
PRODID:-//Довод - ECPv6.15.20//NONSGML v1.0//EN
CALSCALE:GREGORIAN
METHOD:PUBLISH
X-ORIGINAL-URL:https://www.dovod.online
X-WR-CALDESC:Мероприятия для Довод
REFRESH-INTERVAL;VALUE=DURATION:PT1H
X-Robots-Tag:noindex
X-PUBLISHED-TTL:PT1H
BEGIN:VTIMEZONE
TZID:Europe/Moscow
BEGIN:STANDARD
TZOFFSETFROM:+0300
TZOFFSETTO:+0300
TZNAME:MSK
DTSTART:20180101T000000
END:STANDARD
END:VTIMEZONE
BEGIN:VEVENT
DTSTART;VALUE=DATE:20190103
DTEND;VALUE=DATE:20190107
DTSTAMP:20260424T084612
CREATED:20190103T212104Z
LAST-MODIFIED:20190103T212104Z
UID:11119-1546473600-1546819199@www.dovod.online
SUMMARY:Лекции во Владимирском планетарии
DESCRIPTION:3 января 2019 года (четверг)\n\n\n\n12.00 «Незнайкина азбука» — лекция-сеанс для детей 6 — 8 лет\n13.00 «Космическое путешествие Маленького Принца» — лекция-сеанс для детей 7 — 11 лет\n\n14.00 «Звездное небо в мифах и легендах» — лекция-сеанс для детей от 12 лет и взрослой аудитории\n—\n\n\n4 января 2019 года (пятница)\n\n\n\n12.00 «Приключения Волка и Зайца в космосе» — лекция-сеанс для детей 6 — 8 лет\n13.00 «Антошкины истории на Земле и в космосе» — лекция-сеанс для детей 6 — 9 лет\n\n14.00 «Под небом плантерия» — лекция-сеанс для детей от 12 лет и взрослой аудитории\n—\n\n\n5 января 2019 года (суббота)\n\n\n\n12.00 «Приключения белого медвежонка» — лекция-сеанс для детей 5 — 7 лет\n13.00 «Лунные приключения с Гномом-астрономом» — лекция-сеанс для детей 8 — 11 лет\n\n14.00 «Небесный зоопарк» — лекция-сеанс для детей от 11 лет и взрослой аудитории\n—\n\n\n6 января 2019 года (воскресенье)\n\n\n\n12.00 «Путешествие вверх» — лекция-сеанс для детей 5 — 7 лет\n13.00 «Орионыч — друг планетария» — лекция-сеанс для детей 6 — 9 лет\n\n14.00 «Катастрофы в истории Земли» — лекция-сеанс для детей от 12 лет и взрослой аудитории
URL:https://www.dovod.online/event/lektsii-vo-vladimirskom-planetarii/
ATTACH;FMTTYPE=image/png:https://www.dovod.online/wp-content/uploads/2019/01/Screenshot_1-planet.png
END:VEVENT
END:VCALENDAR